BEGIN:VCALENDAR
VERSION:2.0
PRODID:-//Eventin//Event Calendar//EN
CALSCALE:GREGORIAN
METHOD:PUBLISH
BEGIN:VEVENT
UID:82a1e88a11665831d861f6a550c97271@www.kisvarda.hu
SUMMARY:Majális Kisvárdán
DESCRIPTION:
LOCATION:Kisvárdai Vár és Várkert 
DTSTAMP:20260421T123353Z
DTSTART:20260501T080000Z
DTEND:20260501T105500Z
END:VEVENT
END:VCALENDAR
