BEGIN:VCALENDAR
VERSION:2.0
PRODID:-//Eventin//Event Calendar//EN
CALSCALE:GREGORIAN
METHOD:PUBLISH
BEGIN:VEVENT
UID:e087c4727df9abc8474e66ecbfba2400@www.kisvarda.hu
SUMMARY:Városi ballagás - Aranykönyv ceremónia
DESCRIPTION:
LOCATION:Szent László utca - a Városháza előtt 
DTSTAMP:20260422T133904Z
DTSTART:20260427T090000Z
DTEND:20260427T100000Z
END:VEVENT
END:VCALENDAR
